Workbook

Sheet ภาพรวม
A1: สถิติการศึกษาดูงาน Smart City
A4: จำนวนคณะทั้งหมด | C4: ผู้เข้าร่วมทั้งหมด | E4: จังหวัดที่เข้าร่วม | G4: เฉลี่ยคนต่อคณะ
A6: =COUNTA(ข้อมูลรายคณะ!$A$2:$A$4865) -> 56 | C6: =SUM(ข้อมูลรายคณะ!$I$2:$I$4865) -> 3384 | E6: =--(COUNTIF(ข้อมูลรายคณะ!$G$2:$G$4865,"กระบี่")>0)+--(COUNTIF(ข้อมูลรายคณะ!$G$2:$G$4865,"กรุงเทพมหานคร")>0)+--(COUNTIF(ข้อมูลรายคณะ!$G$2:$G$4865,"กาญจนบุรี")>0)+--(COUNTIF(ข้อมูลรายคณะ!$G$2:$G$4865,"กาฬสินธุ์")>0)+--(COUNTIF(ข้อมูลรายคณะ!$G$2:$G$4865,"กำแพงเพชร")>0)+--(COUNTIF(ข้อมูลรายคณะ!$G$2:$G$4865,"ขอนแก่น")>0)+--(COUNTIF(ข้อมูลรายคณะ!$G$2:$G$4865,"จันทบุรี")>0)+--(COUNTIF(ข้อมูลรายคณะ!$G$2:$G$4865,"ฉะเชิงเทรา")>0)+--(COUNTIF(ข้อมูลรายคณะ!$G$2:$G$4865,"ชลบุรี")>0)+--(COUNTIF(ข้อมูลรายคณะ!$G$2:$G$4865,"ชัยนาท")>0)+--(COUNTIF(ข้อมูลรายคณะ!$G$2:$G$4865,"ชัยภูมิ")>0)+--(COUNTIF(ข้อมูลรายคณะ!$G$2:$G$4865,"ชุมพร")>0)+--(COUNTIF(ข้อมูลรายคณะ!$G$2:$G$4865,"เชียงราย")>0)+--(COUNTIF(ข้อมูลรายคณะ!$G$2:$G$4865,"เชียงใหม่")>0)+--(COUNTIF(ข้อมูลรายคณะ!$G$2:$G$4865,"ตรัง")>0)+--(COUNTIF(ข้อมูลรายคณะ!$G$2:$G$4865,"ตราด")>0)+--(COUNTIF(ข้อมูลรายคณะ!$G$2:$G$4865,"ตาก")>0)+--(COUNTIF(ข้อมูลรายคณะ!$G$2:$G$4865,"นครนายก")>0)+--(COUNTIF(ข้อมูลรายคณะ!$G$2:$G$4865,"นครปฐม")>0)+--(COUNTIF(ข้อมูลรายคณะ!$G$2:$G$4865,"นครพนม")>0)+--(COUNTIF(ข้อมูลรายคณะ!$G$2:$G$4865,"นครราชสีมา")>0)+--(COUNTIF(ข้อมูลรายคณะ!$G$2:$G$4865,"นครศรีธรรมราช")>0)+--(COUNTIF(ข้อมูลรายคณะ!$G$2:$G$4865,"นครสวรรค์")>0)+--(COUNTIF(ข้อมูลรายคณะ!$G$2:$G$4865,"นนทบุรี")>0)+--(COUNTIF(ข้อมูลรายคณะ!$G$2:$G$4865,"นราธิวาส")>0)+--(COUNTIF(ข้อมูลรายคณะ!$G$2:$G$4865,"น่าน")>0)+--(COUNTIF(ข้อมูลรายคณะ!$G$2:$G$4865,"บึงกาฬ")>0)+--(COUNTIF(ข้อมูลรายคณะ!$G$2:$G$4865,"บุรีรัมย์")>0)+--(COUNTIF(ข้อมูลรายคณะ!$G$2:$G$4865,"ปทุมธานี")>0)+--(COUNTIF(ข้อมูลรายคณะ!$G$2:$G$4865,"ประจวบคีรีขันธ์")>0)+--(COUNTIF(ข้อมูลรายคณะ!$G$2:$G$4865,"ปราจีนบุรี")>0)+--(COUNTIF(ข้อมูลรายคณะ!$G$2:$G$4865,"ปัตตานี")>0)+--(COUNTIF(ข้อมูลรายคณะ!$G$2:$G$4865,"พระนครศรีอยุธยา")>0)+--(COUNTIF(ข้อมูลรายคณะ!$G$2:$G$4865,"พะเยา")>0)+--(COUNTIF(ข้อมูลรายคณะ!$G$2:$G$4865,"พังงา")>0)+--(COUNTIF(ข้อมูลรายคณะ!$G$2:$G$4865,"พัทลุง")>0)+--(COUNTIF(ข้อมูลรายคณะ!$G$2:$G$4865,"พิจิตร")>0)+--(COUNTIF(ข้อมูลรายคณะ!$G$2:$G$4865,"พิษณุโลก")>0)+--(COUNTIF(ข้อมูลรายคณะ!$G$2:$G$4865,"เพชรบุรี")>0)+--(COUNTIF(ข้อมูลรายคณะ!$G$2:$G$4865,"เพชรบูรณ์")>0)+--(COUNTIF(ข้อมูลรายคณะ!$G$2:$G$4865,"แพร่")>0)+--(COUNTIF(ข้อมูลรายคณะ!$G$2:$G$4865,"ภูเก็ต")>0)+--(COUNTIF(ข้อมูลรายคณะ!$G$2:$G$4865,"มหาสารคาม")>0)+--(COUNTIF(ข้อมูลรายคณะ!$G$2:$G$4865,"มุกดาหาร")>0)+--(COUNTIF(ข้อมูลรายคณะ!$G$2:$G$4865,"แม่ฮ่องสอน")>0)+--(COUNTIF(ข้อมูลรายคณะ!$G$2:$G$4865,"ยโสธร")>0)+--(COUNTIF(ข้อมูลรายคณะ!$G$2:$G$4865,"ยะลา")>0)+--(COUNTIF(ข้อมูลรายคณะ!$G$2:$G$4865,"ร้อยเอ็ด")>0)+--(COUNTIF(ข้อมูลรายคณะ!$G$2:$G$4865,"ระนอง")>0)+--(COUNTIF(ข้อมูลรายคณะ!$G$2:$G$4865,"ระยอง")>0)+--(COUNTIF(ข้อมูลรายคณะ!$G$2:$G$4865,"ราชบุรี")>0)+--(COUNTIF(ข้อมูลรายคณะ!$G$2:$G$4865,"ลพบุรี")>0)+--(COUNTIF(ข้อมูลรายคณะ!$G$2:$G$4865,"ลำปาง")>0)+--(COUNTIF(ข้อมูลรายคณะ!$G$2:$G$4865,"ลำพูน")>0)+--(COUNTIF(ข้อมูลรายคณะ!$G$2:$G$4865,"เลย")>0)+--(COUNTIF(ข้อมูลรายคณะ!$G$2:$G$4865,"ศรีสะเกษ")>0)+--(COUNTIF(ข้อมูลรายคณะ!$G$2:$G$4865,"สกลนคร")>0)+--(COUNTIF(ข้อมูลรายคณะ!$G$2:$G$4865,"สงขลา")>0)+--(COUNTIF(ข้อมูลรายคณะ!$G$2:$G$4865,"สตูล")>0)+--(COUNTIF(ข้อมูลรายคณะ!$G$2:$G$4865,"สมุทรปราการ")>0)+--(COUNTIF(ข้อมูลรายคณะ!$G$2:$G$4865,"สมุทรสงคราม")>0)+--(COUNTIF(ข้อมูลรายคณะ!$G$2:$G$4865,"สมุทรสาคร")>0)+--(COUNTIF(ข้อมูลรายคณะ!$G$2:$G$4865,"สระแก้ว")>0)+--(COUNTIF(ข้อมูลรายคณะ!$G$2:$G$4865,"สระบุรี")>0)+--(COUNTIF(ข้อมูลรายคณะ!$G$2:$G$4865,"สิงห์บุรี")>0)+--(COUNTIF(ข้อมูลรายคณะ!$G$2:$G$4865,"สุโขทัย")>0)+--(COUNTIF(ข้อมูลรายคณะ!$G$2:$G$4865,"สุพรรณบุรี")>0)+--(COUNTIF(ข้อมูลรายคณะ!$G$2:$G$4865,"สุราษฎร์ธานี")>0)+--(COUNTIF(ข้อมูลรายคณะ!$G$2:$G$4865,"สุรินทร์")>0)+--(COUNTIF(ข้อมูลรายคณะ!$G$2:$G$4865,"หนองคาย")>0)+--(COUNTIF(ข้อมูลรายคณะ!$G$2:$G$4865,"หนองบัวลำภู")>0)+--(COUNTIF(ข้อมูลรายคณะ!$G$2:$G$4865,"อ่างทอง")>0)+--(COUNTIF(ข้อมูลรายคณะ!$G$2:$G$4865,"อำนาจเจริญ")>0)+--(COUNTIF(ข้อมูลรายคณะ!$G$2:$G$4865,"อุดรธานี")>0)+--(COUNTIF(ข้อมูลรายคณะ!$G$2:$G$4865,"อุตรดิตถ์")>0)+--(COUNTIF(ข้อมูลรายคณะ!$G$2:$G$4865,"อุทัยธานี")>0)+--(COUNTIF(ข้อมูลรายคณะ!$G$2:$G$4865,"อุบลราชธานี")>0) -> 31 | G6: =C6/A6 -> 60.428571
A8: ประเภทองค์กร | B8: จำนวนคณะ | C8: จำนวนคน | D8: เฉลี่ยคน/คณะ | E8: ภูมิภาค | F8: จำนวนคณะ | G8: จำนวนคน | H8: สัดส่วนจำนวนคน
A9: องค์การบริหารส่วนตำบล | B9: =COUNTIF(ข้อมูลรายคณะ!$E$2:$E$4865,A9) -> 19 | C9: =SUMIF(ข้อมูลรายคณะ!$E$2:$E$4865,A9,ข้อมูลรายคณะ!$I$2:$I$4865) -> 944 | D9: =IF(B9=0,0,C9/B9) -> 49.684211 | E9: ตะวันออกเฉียงเหนือ | F9: =COUNTIF(ข้อมูลรายคณะ!$H$2:$H$4865,E9) -> 21 | G9: =SUMIF(ข้อมูลรายคณะ!$H$2:$H$4865,E9,ข้อมูลรายคณะ!$I$2:$I$4865) -> 1533 | H9: =G9/SUM($G$9:$G$12) -> 0.45301418
A10: เทศบาลตำบล | B10: =COUNTIF(ข้อมูลรายคณะ!$E$2:$E$4865,A10) -> 28 | C10: =SUMIF(ข้อมูลรายคณะ!$E$2:$E$4865,A10,ข้อมูลรายคณะ!$I$2:$I$4865) -> 1577 | D10: =IF(B10=0,0,C10/B10) -> 56.321429 | E10: กลาง | F10: =COUNTIF(ข้อมูลรายคณะ!$H$2:$H$4865,E10) -> 20 | G10: =SUMIF(ข้อมูลรายคณะ!$H$2:$H$4865,E10,ข้อมูลรายคณะ!$I$2:$I$4865) -> 1588 | H10: =G10/SUM($G$9:$G$12) -> 0.46926714
A11: เทศบาลเมือง | B11: =COUNTIF(ข้อมูลรายคณะ!$E$2:$E$4865,A11) -> 9 | C11: =SUMIF(ข้อมูลรายคณะ!$E$2:$E$4865,A11,ข้อมูลรายคณะ!$I$2:$I$4865) -> 863 | D11: =IF(B11=0,0,C11/B11) -> 95.888889 | E11: ตะวันออก | F11: =COUNTIF(ข้อมูลรายคณะ!$H$2:$H$4865,E11) -> 13 | G11: =SUMIF(ข้อมูลรายคณะ!$H$2:$H$4865,E11,ข้อมูลรายคณะ!$I$2:$I$4865) -> 169 | H11: =G11/SUM($G$9:$G$12) -> 0.049940898
A12: เทศบาลนคร | B12: =COUNTIF(ข้อมูลรายคณะ!$E$2:$E$4865,A12) -> 0 | C12: =SUMIF(ข้อมูลรายคณะ!$E$2:$E$4865,A12,ข้อมูลรายคณะ!$I$2:$I$4865) -> 0 | D12: =IF(B12=0,0,C12/B12) -> 0 | E12: เหนือ | F12: =COUNTIF(ข้อมูลรายคณะ!$H$2:$H$4865,E12) -> 2 | G12: =SUMIF(ข้อมูลรายคณะ!$H$2:$H$4865,E12,ข้อมูลรายคณะ!$I$2:$I$4865) -> 94 | H12: =G12/SUM($G$9:$G$12) -> 0.027777778
A13: องค์การบริหารส่วนจังหวัด | B13: =COUNTIF(ข้อมูลรายคณะ!$E$2:$E$4865,A13) -> 0 | C13: =SUMIF(ข้อมูลรายคณะ!$E$2:$E$4865,A13,ข้อมูลรายคณะ!$I$2:$I$4865) -> 0 | D13: =IF(B13=0,0,C13/B13) -> 0

Sheet ข้อมูลรายคณะ
A1: ลำดับ | B1: วันที่ | C1: เดือน | D1: ปีงบประมาณ | E1: ประเภทองค์กร | F1: ชื่อองค์กร | G1: จังหวัด | H1: ภูมิภาค | I1: จำนวนผู้เข้าร่วม (คน) | J1: ลักษณะคณะ
A2: 101 | B2: 46043 | C2: มกราคม | D2: 2569 | E2: เทศบาลเมือง | F2: สามพราน | G2: นครปฐม | H2: กลาง | I2: 69 | J2: คณะศึกษาดูงานทั่วไป
A3: 102 | B3: 46050 | C3: มกราคม | D3: 2569 | E3: เทศบาลเมือง | F3: บางแม่นาง | G3: นนทบุรี | H3: กลาง | I3: 131 | J3: คณะศึกษาดูงานทั่วไป
A4: 103 | B4: 46052 | C4: มกราคม | D4: 2569 | E4: เทศบาลตำบล | F4: วัฒนานคร | G4: สระแก้ว | H4: ตะวันออก | I4: 57 | J4: คณะศึกษาดูงานทั่วไป
A5: 104 | B5: 46092 | C5: มีนาคม | D5: 2569 | E5: เทศบาลตำบล | F5: สีชมพู | G5: ขอนแก่น | H5: ตะวันออกเฉียงเหนือ | I5: 81 | J5: คณะศึกษาดูงานทั่วไป
A6: 105 | B6: 46099 | C6: มีนาคม | D6: 2569 | E6: เทศบาลตำบล | F6: สาวะถี | G6: ขอนแก่น | H6: ตะวันออกเฉียงเหนือ | I6: 80 | J6: คณะศึกษาดูงานทั่วไป
A7: 106 | B7: 46099 | C7: มีนาคม | D7: 2569 | E7: เทศบาลเมือง | F7: ขลุง | G7: จันทบุรี | H7: ตะวันออก | I7: 9 | J7: คณะศึกษาดูงานทั่วไป
A8: 107 | B8: 46100 | C8: มีนาคม | D8: 2569 | E8: เทศบาลตำบล | F8: รังกาใหญ่ | G8: นครราชสีมา | H8: ตะวันออกเฉียงเหนือ | I8: 88 | J8: คณะศึกษาดูงานทั่วไป
A9: 108 | B9: 46101 | C9: มีนาคม | D9: 2569 | E9: เทศบาลตำบล | F9: ปะคำ | G9: บุรีรัมย์ | H9: ตะวันออกเฉียงเหนือ | I9: 88 | J9: คณะศึกษาดูงานทั่วไป
A10: 109 | B10: 46108 | C10: มีนาคม | D10: 2569 | E10: เทศบาลตำบล | F10: เกาะคา | G10: ลำปาง | H10: เหนือ | I10: 49 | J10: คณะศึกษาดูงานทั่วไป
A11: 110 | B11: 46115 | C11: เมษายน | D11: 2569 | E11: องค์การบริหารส่วนตำบล | F11: เวียงชัย | G11: มหาสารคาม | H11: ตะวันออกเฉียงเหนือ | I11: 45 | J11: คณะศึกษาดูงานทั่วไป
A12: 111 | B12: 46120 | C12: เมษายน | D12: 2569 | E12: เทศบาลตำบล | F12: ทุ่งหลวง | G12: ร้อยเอ็ด | H12: ตะวันออกเฉียงเหนือ | I12: 66 | J12: คณะศึกษาดูงานทั่วไป
A13: 112 | B13: 46140 | C13: เมษายน | D13: 2569 | E13: องค์การบริหารส่วนตำบล | F13: โตนด | G13: สุโขทัย | H13: กลาง | I13: 50 | J13: คณะศึกษาดูงานทั่วไป
... A57: 156 | B57: 46283 | C57: กันยายน | D57: 2569 | E57: องค์การบริหารส่วนตำบล | F57: หนองบัว | G57: มหาสารคาม | H57: ตะวันออกเฉียงเหนือ | I57: 46 | J57: คณะศึกษาดูงานทั่วไป
